BEGIN:VCALENDAR
VERSION:2.0
PRODID:icalendar-ruby
CALSCALE:GREGORIAN
METHOD:PUBLISH
BEGIN:VEVENT
DTSTAMP:20260419T191010Z
UID:6-384010@churchofthemountains.org
DTSTART:20261019T170000Z
DTEND:20261019T180000Z
CLASS:PUBLIC
CREATED:20260419T091644
DESCRIPTION:Join this women's group for a weekly gathering for bible study\
 , prayer\, and fellowship.
LAST-MODIFIED:20260419T091644
LOCATION:Church of the Mountains - Fellowship Hall
SUMMARY:Women's Bible Study
URL;VALUE=URI:https://www.churchofthemountains.org/events/womens-bible-stud
 y/2026-10-19
ATTACH;FILENAME=Bible.jfif;FMTTYPE=image/jpeg:https://dq5pwpg1q8ru0.cloudfr
 ont.net/2023/10/29/22/07/26/a5db1854-7bf3-4022-acda-21db38fbca4d/Bible.jfi
 f
END:VEVENT
END:VCALENDAR
